BEGIN:VCALENDAR
VERSION:2.0
PRODID:-//MIRABILIA ART WONDERS - ECPv6.15.17.1//NONSGML v1.0//EN
CALSCALE:GREGORIAN
METHOD:PUBLISH
X-WR-CALNAME:MIRABILIA ART WONDERS
X-ORIGINAL-URL:https://testartwonders.palazzofarneseroma.it
X-WR-CALDESC:Eventi per MIRABILIA ART WONDERS
REFRESH-INTERVAL;VALUE=DURATION:PT1H
X-Robots-Tag:noindex
X-PUBLISHED-TTL:PT1H
BEGIN:VTIMEZONE
TZID:Europe/Rome
BEGIN:DAYLIGHT
TZOFFSETFROM:+0100
TZOFFSETTO:+0200
TZNAME:CEST
DTSTART:20240331T010000
END:DAYLIGHT
BEGIN:STANDARD
TZOFFSETFROM:+0200
TZOFFSETTO:+0100
TZNAME:CET
DTSTART:20241027T010000
END:STANDARD
BEGIN:DAYLIGHT
TZOFFSETFROM:+0100
TZOFFSETTO:+0200
TZNAME:CEST
DTSTART:20250330T010000
END:DAYLIGHT
BEGIN:STANDARD
TZOFFSETFROM:+0200
TZOFFSETTO:+0100
TZNAME:CET
DTSTART:20251026T010000
END:STANDARD
BEGIN:DAYLIGHT
TZOFFSETFROM:+0100
TZOFFSETTO:+0200
TZNAME:CEST
DTSTART:20260329T010000
END:DAYLIGHT
BEGIN:STANDARD
TZOFFSETFROM:+0200
TZOFFSETTO:+0100
TZNAME:CET
DTSTART:20261025T010000
END:STANDARD
BEGIN:DAYLIGHT
TZOFFSETFROM:+0100
TZOFFSETTO:+0200
TZNAME:CEST
DTSTART:20270328T010000
END:DAYLIGHT
BEGIN:STANDARD
TZOFFSETFROM:+0200
TZOFFSETTO:+0100
TZNAME:CET
DTSTART:20271031T010000
END:STANDARD
END:VTIMEZONE
BEGIN:VEVENT
DTSTART;TZID=Europe/Rome:20250105T170000
DTEND;TZID=Europe/Rome:20250105T180000
DTSTAMP:20260425T185139
CREATED:20241021T134345Z
LAST-MODIFIED:20241227T144234Z
UID:10000227-1736096400-1736100000@testartwonders.palazzofarneseroma.it
SUMMARY:Museo Ninfeo: il giardino degli dèi
DESCRIPTION:Il Museo Ninfeo si estende in un’area di oltre 1000 metri quadrati e regala alla città uno dei suoi luoghi più affascinanti e misteriosi\, mostrando la trasformazione nei secoli del colle Esquilino. Inizialmente occupata da una vasta necropoli\, all’inizio del I secolo d.C. Lucio Elio Lamia\, un potente uomo politico\, vi edificò la sua sontuosa villa impreziosita da vasti giardini\, gli Horti Lamiani. Già alla metà del I secolo d.C. divenne proprietà imperiale e il susseguirsi degli imperatori che vi abitarono diede luogo a continui rimaneggiamenti\, poiché ognuno volle personalizzare la residenza a proprio gusto. D’impronta ellenistica\, l’interno degli Horti era costituito da edifici\, tempietti\, giardini\, piazze e boschetti\, dove i reperti rivelano anche la presenza di animali selvatici\, come leoni\, cerbiatti e struzzi\, e piante esotiche. Tra i reperti più preziosi\, troviamo i resti di una grande piazza con un ninfeo\, risalente all’epoca dell’imperatore Alessandro Severo\, due maschere del teatro greco\, realizzate con un impasto di polvere di marmo e tracce di colore – blu negli occhi e rosso nella capigliatura\, un grande affresco ricomposto grazie al ritrovamento di 90.000 frammenti e quattro ciotoline che recano al loro interno i pigmenti di colore utilizzati per dipingerlo. La visita guidata permette di scoprire\, anche grazie a un innovativo allestimento museale caratterizzato da illustrazioni ricostruttive\, animazioni e ricostruzioni in 3D\, i contesti originali e la vita quotidiana degli antichi romani. Infatti\, grazie ad un enorme quantità di variegati reperti – dalle decorazioni pittoriche e marmoree agli oggetti utilizzati nella vita quotidiana – il visitatore viene catapultato in un viaggio alla scoperta degli usi e dei costumi\, dei commerci e delle mode\, ma anche dei cibi e degli svaghi dei primi secoli dell’Impero Romano.
URL:https://testartwonders.palazzofarneseroma.it/evento/museo-ninfeo-il-giardino-degli-dei/
LOCATION:Museo Ninfeo\, Piazza Vittorio Emanuele II 78\, Roma
ATTACH;FMTTYPE=image/jpeg:https://testartwonders.palazzofarneseroma.it/wp-content/uploads/2024/10/Ninfeo-2.jpg
END:VEVENT
BEGIN:VEVENT
DTSTART;TZID=Europe/Rome:20250302T163000
DTEND;TZID=Europe/Rome:20250302T173000
DTSTAMP:20260425T185139
CREATED:20250203T154634Z
LAST-MODIFIED:20250219T155527Z
UID:10000332-1740933000-1740936600@testartwonders.palazzofarneseroma.it
SUMMARY:La Galleria Corsini: i capolavori dell'arte in un'autentica quadreria settecentesca
DESCRIPTION:La Galleria Corsini non è soltanto un museo che custodisce celeberrime opere d’arte; è anche l’unica collezione d’arte settecentesca rimasta inalterata\, che consente di immergersi in un contesto autentico ed emozionante.
URL:https://testartwonders.palazzofarneseroma.it/evento/la-galleria-corsini-capolavori-dellarte-in-ununica-quadreria-settecentesca/
LOCATION:Via della Lungara\, 10\, Via della Lungara 10
CATEGORIES:roma sotterranea
ATTACH;FMTTYPE=image/jpeg:https://testartwonders.palazzofarneseroma.it/wp-content/uploads/2025/02/Corsini-6-scaled.jpg
END:VEVENT
BEGIN:VEVENT
DTSTART;TZID=Europe/Rome:20250405T160000
DTEND;TZID=Europe/Rome:20250405T170000
DTSTAMP:20260425T185139
CREATED:20250203T184034Z
LAST-MODIFIED:20250219T161442Z
UID:10000333-1743868800-1743872400@testartwonders.palazzofarneseroma.it
SUMMARY:Palazzo Baldassini\, un gioiello del Cinquecento a Roma
DESCRIPTION:Palazzo Baldassini è considerato uno dei migliori esempi di palazzi romani dell’inizio del Cinquecento. Questa visita si svolge eccezionalmente “a porte chiuse” e consente di ammirare gli ambienti più importanti del Palazzo.
URL:https://testartwonders.palazzofarneseroma.it/evento/palazzo-baldassini-un-gioiello-del-cinquecento-a-roma/
LOCATION:Via delle Coppelle\, 35\, Via delle Coppelle\, 35\, Roma
CATEGORIES:roma sotterranea
ATTACH;FMTTYPE=image/jpeg:https://testartwonders.palazzofarneseroma.it/wp-content/uploads/2025/02/Baldassini-2-1.jpg
END:VEVENT
BEGIN:VEVENT
DTSTART;TZID=Europe/Rome:20250406T120000
DTEND;TZID=Europe/Rome:20250406T130000
DTSTAMP:20260425T185139
CREATED:20250214T163954Z
LAST-MODIFIED:20250219T162429Z
UID:10000336-1743940800-1743944400@testartwonders.palazzofarneseroma.it
SUMMARY:Villino Boncompagni Ludovisi\, dove la moda incontra l’arte
DESCRIPTION:La visita al Villino Boncompagni Ludovisi è una duplice e sublime esperienza: l’edificio è un piccolo capolavoro del barocco con contaminazioni liberty\, la collezione racconta la storia del costume e dell’alta moda italiana nell’arco di un secolo.
URL:https://testartwonders.palazzofarneseroma.it/evento/villino-boncompagni-ludovisi-dove-la-moda-incontra-larte/
LOCATION:Museo Boncompagni Ludovisi\, Via Boncompagni 18\, Roma
ATTACH;FMTTYPE=image/jpeg:https://testartwonders.palazzofarneseroma.it/wp-content/uploads/2025/02/MCL-7.jpg
END:VEVENT
BEGIN:VEVENT
DTSTART;TZID=Europe/Rome:20250423T163000
DTEND;TZID=Europe/Rome:20250423T180000
DTSTAMP:20260425T185139
CREATED:20250205T191800Z
LAST-MODIFIED:20250219T162858Z
UID:10000334-1745425800-1745431200@testartwonders.palazzofarneseroma.it
SUMMARY:Palazzo Firenze\, che fu residenza papale\, dimora nobiliare\, Ambasciata\, Ministero e circolo di intellettuali
DESCRIPTION:Palazzo Firenze è uno dei luoghi di Roma più ricchi di storia: fu residenza papale\, dimora nobiliare\, Ambasciata\, Ministero e circolo di intellettuali.
URL:https://testartwonders.palazzofarneseroma.it/evento/palazzo-firenze-che-fu-residenza-papale-dimora-nobiliare-ambasciata-ministero-e-circolo-di-intellettuali/
LOCATION:Piazza di Firenze\, Piazza di Firenze\, Roma
CATEGORIES:roma sotterranea
ATTACH;FMTTYPE=image/jpeg:https://testartwonders.palazzofarneseroma.it/wp-content/uploads/2025/02/Firenze-1-scaled.jpg
END:VEVENT
BEGIN:VEVENT
DTSTART;TZID=Europe/Rome:20250426T113000
DTEND;TZID=Europe/Rome:20250426T123000
DTSTAMP:20260425T185139
CREATED:20250226T142411Z
LAST-MODIFIED:20250226T143007Z
UID:10000341-1745667000-1745670600@testartwonders.palazzofarneseroma.it
SUMMARY:La Basilica di Santa Cecilia: un viaggio indietro nel tempo in uno scrigno di capolavori
DESCRIPTION:La Basilica di Santa Cecilia a Trastevere è uno dei luoghi più incredibili e leggendari di tutta Roma.
URL:https://testartwonders.palazzofarneseroma.it/evento/la-basilica-di-santa-cecilia-un-viaggio-indietro-nel-tempo-in-uno-scrigno-di-capolavori/
LOCATION:Basilica di Santa Cecilia\, Piazza di Santa Cecilia\, Roma
ATTACH;FMTTYPE=image/jpeg:https://testartwonders.palazzofarneseroma.it/wp-content/uploads/2025/02/Santa-Cecilia-4.jpg
END:VEVENT
BEGIN:VEVENT
DTSTART;TZID=Europe/Rome:20250504T162000
DTEND;TZID=Europe/Rome:20250504T172000
DTSTAMP:20260425T185139
CREATED:20250227T144326Z
LAST-MODIFIED:20250227T144440Z
UID:10000342-1746375600-1746379200@testartwonders.palazzofarneseroma.it
SUMMARY:La Centrale Montemartini\, dove si incontrano l’archeologia industriale e i capolavori della Roma antica
DESCRIPTION:La Centrale Montemartini è uno straordinario esempio di riconversione di un edificio di archeologia industriale in un museo in cui convivono\, in uno sbalorditivo dialogo tra l’antico e il moderno\, straordinarie opere d’arte classica con i macchinari industriali che venivano utilizzati nella Centrale\, all’interno di un suggestivo edificio in stile Liberty.
URL:https://testartwonders.palazzofarneseroma.it/evento/la-centrale-montemartini-dove-si-incontrano-larcheologia-industriale-e-i-capolavori-della-roma-antica/
LOCATION:Centrale Montemartini\, via Ostiense 106\, Roma
ATTACH;FMTTYPE=image/jpeg:https://testartwonders.palazzofarneseroma.it/wp-content/uploads/2025/02/CM-6.jpg
END:VEVENT
BEGIN:VEVENT
DTSTART;TZID=Europe/Rome:20250510T110000
DTEND;TZID=Europe/Rome:20250510T120000
DTSTAMP:20260425T185139
CREATED:20250310T123756Z
LAST-MODIFIED:20250509T155337Z
UID:10000345-1746874800-1746878400@testartwonders.palazzofarneseroma.it
SUMMARY:Il Villino Ximenes: il trionfo dello stile Liberty a Roma
DESCRIPTION:Autentico gioiello del Liberty\, il Villino Ximenes fu l’abitazione-studio dello scultore palermitano Ettore Ximenes.
URL:https://testartwonders.palazzofarneseroma.it/evento/il-villino-ximenes-il-trionfo-dello-stile-liberty-a-roma/
LOCATION:Villino Ximenes\, Via Cornelio Celso 1\, Roma
ATTACH;FMTTYPE=image/jpeg:https://testartwonders.palazzofarneseroma.it/wp-content/uploads/2025/03/Ximenes-02.jpg
END:VEVENT
BEGIN:VEVENT
DTSTART;TZID=Europe/Rome:20250601T160000
DTEND;TZID=Europe/Rome:20250601T170000
DTSTAMP:20260425T185139
CREATED:20250228T191216Z
LAST-MODIFIED:20250526T110657Z
UID:10000343-1748793600-1748797200@testartwonders.palazzofarneseroma.it
SUMMARY:La Casina delle Civette: una casa delle fiabe tra arte\, natura\, storia e mistero
DESCRIPTION:La Casina delle Civette è una delle costruzioni più eclettiche e misteriose di tutta Roma: sembra la casa delle fiabe che ci aspetteremmo di vedere in un film fantasy.
URL:https://testartwonders.palazzofarneseroma.it/evento/la-casina-delle-civette-una-casa-delle-fiabe-tra-arte-natura-storia-e-mistero/
LOCATION:Casina delle Civette\, via Nomentana 70\, Roma
ATTACH;FMTTYPE=image/jpeg:https://testartwonders.palazzofarneseroma.it/wp-content/uploads/2025/02/Casino-12.jpg
END:VEVENT
BEGIN:VEVENT
DTSTART;TZID=Europe/Rome:20250913T163000
DTEND;TZID=Europe/Rome:20250913T183000
DTSTAMP:20260425T185139
CREATED:20250716T130553Z
LAST-MODIFIED:20250716T143124Z
UID:10000355-1757781000-1757788200@testartwonders.palazzofarneseroma.it
SUMMARY:Convento di Palazzola a Rocca di Papa: visita esclusiva e aperitivo panoramico
DESCRIPTION:Per la prima volta\, un’esperienza unica a Rocca di Papa\, ai Castelli Romani: visita guidata + aperitivo al Convento di Palazzola\, che domina il Lago Albano.
URL:https://testartwonders.palazzofarneseroma.it/evento/convento-di-palazzola-a-rocca-di-papa-visita-esclusiva-e-aperitivo-panoramico/
LOCATION:Palazzola\, Via dei Laghi\, Rocca di Papa
ATTACH;FMTTYPE=image/jpeg:https://testartwonders.palazzofarneseroma.it/wp-content/uploads/2025/05/54-2-1.jpg
END:VEVENT
BEGIN:VEVENT
DTSTART;TZID=Europe/Rome:20250920T170000
DTEND;TZID=Europe/Rome:20250920T183000
DTSTAMP:20260425T185139
CREATED:20250807T145008Z
LAST-MODIFIED:20250807T145158Z
UID:10000396-1758387600-1758393000@testartwonders.palazzofarneseroma.it
SUMMARY:Quartiere Coppedè\, trionfo dello stile Liberty a Roma
DESCRIPTION:C’è un angolo di Roma in cui l’architettura smette di essere razionale e diventa pura invenzione\, un luogo dove stili diversi si intrecciano in un racconto fantastico\, carico di simboli\, dettagli e visioni: è il Quartiere Coppedè\, uno dei gioielli nascosti della capitale
URL:https://testartwonders.palazzofarneseroma.it/evento/quartiere-coppede-trionfo-dello-stile-liberty-a-roma/
LOCATION:Quartiere Coppedè\, Piazza Buenos Aires\, Roma
CATEGORIES:roma sotterranea
ATTACH;FMTTYPE=image/jpeg:https://testartwonders.palazzofarneseroma.it/wp-content/uploads/2025/08/06.jpg
END:VEVENT
BEGIN:VEVENT
DTSTART;TZID=Europe/Rome:20250927T160000
DTEND;TZID=Europe/Rome:20250927T173000
DTSTAMP:20260425T185139
CREATED:20250814T142906Z
LAST-MODIFIED:20250926T171346Z
UID:10000402-1758988800-1758994200@testartwonders.palazzofarneseroma.it
SUMMARY:Sulle tracce di Caravaggio: genio\, luce e ombre nella Roma Barocca
DESCRIPTION:Questo walking tour è un viaggio tra le architetture\, le atmosfere e i capolavori che ancora raccontano la vita intensa e geniale di Michelangelo Merisi da Caravaggio
URL:https://testartwonders.palazzofarneseroma.it/evento/sulle-tracce-di-caravaggio-genio-luce-e-ombre-nella-roma-barocca/
LOCATION:Santa Maria del Popolo\, Piazza del Popolo 12\, Roma
CATEGORIES:roma sotterranea
ATTACH;FMTTYPE=image/jpeg:https://testartwonders.palazzofarneseroma.it/wp-content/uploads/2025/08/01-8.jpg
END:VEVENT
BEGIN:VEVENT
DTSTART;TZID=Europe/Rome:20251005T120000
DTEND;TZID=Europe/Rome:20251005T130000
DTSTAMP:20260425T185139
CREATED:20250807T160219Z
LAST-MODIFIED:20251004T112356Z
UID:10000397-1759665600-1759669200@testartwonders.palazzofarneseroma.it
SUMMARY:Palazzo San Felice: ritorno al futuro
DESCRIPTION:Palazzo San Felice si svela eccezionalmente al pubblico in occasione di una visita straordinaria e irripetibile
URL:https://testartwonders.palazzofarneseroma.it/evento/palazzo-san-felice-ritorno-al-futuro/
LOCATION:Palazzo San Felice\, Via della Dataria\, 21\, Roma
CATEGORIES:roma sotterranea
ATTACH;FMTTYPE=image/jpeg:https://testartwonders.palazzofarneseroma.it/wp-content/uploads/2025/08/00-1.jpg
END:VEVENT
BEGIN:VEVENT
DTSTART;TZID=Europe/Rome:20251011T110000
DTEND;TZID=Europe/Rome:20251011T120000
DTSTAMP:20260425T185139
CREATED:20250801T115223Z
LAST-MODIFIED:20251010T140228Z
UID:10000391-1760180400-1760184000@testartwonders.palazzofarneseroma.it
SUMMARY:San Pietro in Montorio\, Tempietto del Bramante e Fontanone dell'Acqua Paola
DESCRIPTION:Un luogo che sfida il tempo\, una terrazza mozzafiato sulla città eterna e tre meraviglie architettoniche in un solo percorso: la chiesa di San Pietro in Montorio\, il celebre Tempietto del Bramante e il monumentale Fontanone del Gianicolo.
URL:https://testartwonders.palazzofarneseroma.it/evento/san-pietro-in-montorio-tempietto-del-bramante-e-fontanone-dellacqua-paola/
LOCATION:Piazza di San Pietro in Montorio\, Piazza di San Pietro in Montorio\, Roma
ATTACH;FMTTYPE=image/jpeg:https://testartwonders.palazzofarneseroma.it/wp-content/uploads/2025/08/Gianicolo1.jpg
END:VEVENT
BEGIN:VEVENT
DTSTART;TZID=Europe/Rome:20251017T110000
DTEND;TZID=Europe/Rome:20251017T120000
DTSTAMP:20260425T185139
CREATED:20250801T142223Z
LAST-MODIFIED:20250801T142223Z
UID:10000392-1760698800-1760702400@testartwonders.palazzofarneseroma.it
SUMMARY:Villa Lante\, capolavoro di Giulio Romano e meraviglia del Cinquecento
DESCRIPTION:Un rifugio tra i cipressi del Gianicolo\, affacciato su una delle viste più belle di Roma: capolavoro di Giulio Romano\, Villa Lante è una gemma nascosta del Cinquecento.
URL:https://testartwonders.palazzofarneseroma.it/evento/villa-lante-capolavoro-di-giulio-romano-e-meraviglia-del-cinquecento/
LOCATION:Villa Lante\, Passeggiata del Gianicolo 10\, Roma
ATTACH;FMTTYPE=image/jpeg:https://testartwonders.palazzofarneseroma.it/wp-content/uploads/2025/08/VillaLante2.jpg
END:VEVENT
BEGIN:VEVENT
DTSTART;TZID=Europe/Rome:20251031T170000
DTEND;TZID=Europe/Rome:20251031T183000
DTSTAMP:20260425T185139
CREATED:20250814T134531Z
LAST-MODIFIED:20251029T160209Z
UID:10000401-1761930000-1761935400@testartwonders.palazzofarneseroma.it
SUMMARY:Fantasmi e leggende: la Roma segreta di Halloween
DESCRIPTION:Per la notte di Halloween\, non perdete un tour speciale alla scoperta dei luoghi più oscuri della città eterna\, dove i confini tra storia e leggenda si fanno sottili\, e le voci del passato sembrano ancora riecheggiare tra le pietre. Un itinerario durante il quale la città si trasforma in teatro di racconti inquietanti\, apparizioni e anime turbate.
URL:https://testartwonders.palazzofarneseroma.it/evento/fantasmi-e-leggende-la-roma-segreta-di-halloween/
LOCATION:Museo delle Anime del Purgatorio\, Lungotevere Prati\, 12\, Roma
CATEGORIES:roma sotterranea
ATTACH;FMTTYPE=image/jpeg:https://testartwonders.palazzofarneseroma.it/wp-content/uploads/2025/08/11-3.jpg
END:VEVENT
BEGIN:VEVENT
DTSTART;TZID=Europe/Rome:20251102T113000
DTEND;TZID=Europe/Rome:20251102T123000
DTSTAMP:20260425T185139
CREATED:20250807T164432Z
LAST-MODIFIED:20251101T192347Z
UID:10000398-1762083000-1762086600@testartwonders.palazzofarneseroma.it
SUMMARY:Palazzo Altemps\, elegante dimora di capolavori d’arte
DESCRIPTION:Questa visita speciale vi porterà alla scoperta di un luogo straordinario: un viaggio tra collezioni nobiliari e capolavori senza tempo\, attraverso cortili rinascimentali e sale decorate
URL:https://testartwonders.palazzofarneseroma.it/evento/palazzo-altemps-elegante-dimora-di-capolavori-darte/
LOCATION:Palazzo Altemps\, Piazza di S. Apollinare\, 46\, Roma\, 00186
CATEGORIES:roma sotterranea
ATTACH;FMTTYPE=image/jpeg:https://testartwonders.palazzofarneseroma.it/wp-content/uploads/2025/08/01-4.jpg
END:VEVENT
BEGIN:VEVENT
DTSTART;TZID=Europe/Rome:20251121T110000
DTEND;TZID=Europe/Rome:20251121T120000
DTSTAMP:20260425T185139
CREATED:20250829T124819Z
LAST-MODIFIED:20251120T122910Z
UID:10000399-1763722800-1763726400@testartwonders.palazzofarneseroma.it
SUMMARY:Palazzo Della Valle\, un gioiello segreto si svela al pubblico
DESCRIPTION:Questa visita rappresenta un’occasione preziosa per accedere a un luogo raramente aperto al pubblico\, Palazzo Della Valle\, dove l’arte è la vera protagonista.
URL:https://testartwonders.palazzofarneseroma.it/evento/palazzo-della-valle-un-gioiello-segreto-si-svela-al-pubblico/
LOCATION:Palazzo Della Valle\, Corso Vittorio Emanuele II\, 101\, Roma
CATEGORIES:roma sotterranea
ATTACH;FMTTYPE=image/jpeg:https://testartwonders.palazzofarneseroma.it/wp-content/uploads/2025/08/01-5.jpg
END:VEVENT
BEGIN:VEVENT
DTSTART;TZID=Europe/Rome:20251122T160000
DTEND;TZID=Europe/Rome:20251122T170000
DTSTAMP:20260425T185139
CREATED:20250801T154405Z
LAST-MODIFIED:20251121T140114Z
UID:10000395-1763827200-1763830800@testartwonders.palazzofarneseroma.it
SUMMARY:Palazzo Piacentini Vaccaro\, maestosa architettura governativa tra tradizione e modernità
DESCRIPTION:Lungo via Veneto\, si trova un palazzo che racconta l’Italia del Novecento tra arte\, architettura e storia pubblica: Palazzo Piacentini Vaccaro\, oggi sede del Ministero delle Imprese e del Made in Italy.
URL:https://testartwonders.palazzofarneseroma.it/evento/palazzo-piacentini-vaccaro-maestosa-architettura-governativa-tra-tradizione-e-modernita/
LOCATION:Palazzo Piacentini Vaccaro\, Via Vittorio Veneto\, 27\, Roma
ATTACH;FMTTYPE=image/jpeg:https://testartwonders.palazzofarneseroma.it/wp-content/uploads/2025/08/PPV-01.jpg
END:VEVENT
BEGIN:VEVENT
DTSTART;TZID=Europe/Rome:20251129T160000
DTEND;TZID=Europe/Rome:20251129T170000
DTSTAMP:20260425T185139
CREATED:20250829T125018Z
LAST-MODIFIED:20250829T125018Z
UID:10000400-1764432000-1764435600@testartwonders.palazzofarneseroma.it
SUMMARY:Accademia di San Luca: arte e cultura modellate nel tempo
DESCRIPTION:A pochi passi dalla Fontana di Trevi si trova una delle istituzioni più prestigiose e longeve della cultura artistica italiana: l’Accademia Nazionale di San Luca
URL:https://testartwonders.palazzofarneseroma.it/evento/accademia-di-san-luca-arte-e-cultura-modellate-nel-tempo/
LOCATION:Accademia di San Luca\, Piazza dell'Accademia di San Luca 77\, Roma\, 00187
CATEGORIES:roma sotterranea
ATTACH;FMTTYPE=image/jpeg:https://testartwonders.palazzofarneseroma.it/wp-content/uploads/2025/08/00-2.jpg
END:VEVENT
BEGIN:VEVENT
DTSTART;TZID=Europe/Rome:20260309T140000
DTEND;TZID=Europe/Rome:20260309T153000
DTSTAMP:20260425T185139
CREATED:20260223T092505Z
LAST-MODIFIED:20260225T101205Z
UID:10000453-1773064800-1773070200@testartwonders.palazzofarneseroma.it
SUMMARY:OCCASIONE UNICA: APERTO UN SOLO GIORNO ALL’ANNO! Il Monastero delle Oblate di Santa Francesca Romana
DESCRIPTION:9 marzo: solo in questo giorno\, e in nessun altro dell’anno\, il Monastero delle Oblate di Santa Francesca Romana a Tor de’ Specchi apre le sue porte al pubblico
URL:https://testartwonders.palazzofarneseroma.it/evento/occasione-unica-aperto-un-solo-giorno-allanno-il-monastero-delle-oblate-di-santa-francesca-romana/
LOCATION:Monastero delle Oblate di Santa Francesca Romana\, via del Teatro di Marcello\, 32\, Roma
CATEGORIES:roma sotterranea
ATTACH;FMTTYPE=image/jpeg:https://testartwonders.palazzofarneseroma.it/wp-content/uploads/2026/02/Oblate-01.jpg
END:VEVENT
BEGIN:VEVENT
DTSTART;TZID=Europe/Rome:20260411T110000
DTEND;TZID=Europe/Rome:20260411T120000
DTSTAMP:20260425T185139
CREATED:20260310T130940Z
LAST-MODIFIED:20260323T174705Z
UID:10000471-1775905200-1775908800@testartwonders.palazzofarneseroma.it
SUMMARY:Museo Storico dei Bersaglieri: da Michelangelo alle origini dell’Italia unita
DESCRIPTION:Ricavata sulle antiche mura Aureliane\, sorge Porta Pia\, l’ultima opera di Michelangelo\, che oggi ospita il Museo Storico dei Bersaglieri.
URL:https://testartwonders.palazzofarneseroma.it/evento/museo-storico-dei-bersaglieri-da-michelangelo-alle-origini-dellitalia-unita/
LOCATION:Museo Storico dei Bersaglieri\, Porta Pia\, Roma
ATTACH;FMTTYPE=image/jpeg:https://testartwonders.palazzofarneseroma.it/wp-content/uploads/2026/03/Bersaglieri-01.jpg
END:VEVENT
BEGIN:VEVENT
DTSTART;TZID=Europe/Rome:20260412T120000
DTEND;TZID=Europe/Rome:20260412T130000
DTSTAMP:20260425T185139
CREATED:20260227T152708Z
LAST-MODIFIED:20260227T152708Z
UID:10000468-1775995200-1775998800@testartwonders.palazzofarneseroma.it
SUMMARY:Le Case Romane del Celio: nel labirinto segreto della Roma Antica
DESCRIPTION:Situate sotto la Basilica dei Santi Giovanni e Paolo\, tra il Colosseo e il Circo Massimo\, le Case Romane del Celio rappresentano uno dei luoghi più affascinanti della Roma sotterranea e custodiscono oltre quattro secoli di storia.
URL:https://testartwonders.palazzofarneseroma.it/evento/le-case-romane-del-celio-nel-labirinto-segreto-della-roma-antica/
LOCATION:Case Romane del Celio\, Clivio di Scauro\, Roma
ATTACH;FMTTYPE=image/jpeg:https://testartwonders.palazzofarneseroma.it/wp-content/uploads/2026/02/COVER.jpg
END:VEVENT
BEGIN:VEVENT
DTSTART;TZID=Europe/Rome:20260425T103000
DTEND;TZID=Europe/Rome:20260425T113000
DTSTAMP:20260425T185139
CREATED:20260302T113457Z
LAST-MODIFIED:20260401T131456Z
UID:10000469-1777113000-1777116600@testartwonders.palazzofarneseroma.it
SUMMARY:Santo Stefano al Celio: una basilica unica e inimitabile
DESCRIPTION:C’è un luogo sul Celio che\, più di altri\, racchiude in sé l’eredità millenaria di Roma. Un luogo che dall’esterno appare raccolto e discreto\, ma che una volta attraversata la soglia rivela un’architettura capace di togliere il fiato: Santo Stefano al Celio\, una delle più antiche chiese paleocristiane a pianta circolare. Qui si apre uno spazio che non ha eguali.
URL:https://testartwonders.palazzofarneseroma.it/evento/santo-stefano-al-celio-una-basilica-unica-e-inimitabile/
LOCATION:Santo Stefano al Celio\, Via Santo Stefano Rotondo 7\, Roma
ATTACH;FMTTYPE=image/jpeg:https://testartwonders.palazzofarneseroma.it/wp-content/uploads/2026/03/Stefano-Celio-01.jpg
END:VEVENT
BEGIN:VEVENT
DTSTART;TZID=Europe/Rome:20260508T113000
DTEND;TZID=Europe/Rome:20260508T123000
DTSTAMP:20260425T185139
CREATED:20260302T122439Z
LAST-MODIFIED:20260302T122439Z
UID:10000470-1778239800-1778243400@testartwonders.palazzofarneseroma.it
SUMMARY:Palazzo Chigi Odescalchi: visita “I segreti di Caravaggio” con permesso speciale
DESCRIPTION:Apertura straordinaria di Palazzo Chigi Odescalchi grazie a un permesso speciale della principessa Odescalchi e visita al capolavoro di Caravaggio Conversione di San Paolo\, visibile solo in rarissime circostanze.
URL:https://testartwonders.palazzofarneseroma.it/evento/palazzo-chigi-odescalchi-visita-i-segreti-di-caravaggio-con-permesso-speciale/
LOCATION:Palazzo Chigi Odescalchi\, Piazza dei Santi Apostoli 80\, Roma
ATTACH;FMTTYPE=image/jpeg:https://testartwonders.palazzofarneseroma.it/wp-content/uploads/2026/03/Chigi-Odescalchi-01.jpg
END:VEVENT
BEGIN:VEVENT
DTSTART;TZID=Europe/Rome:20260509T113000
DTEND;TZID=Europe/Rome:20260509T123000
DTSTAMP:20260425T185139
CREATED:20260227T105726Z
LAST-MODIFIED:20260227T105726Z
UID:10000467-1778326200-1778329800@testartwonders.palazzofarneseroma.it
SUMMARY:Oratori del Celio: tre luoghi sospesi nel tempo tra capolavori d'arte e leggende cristiane
DESCRIPTION:Immersi nel verde là dove si incontrano due dei sette colli di Roma\, il Palatino e il Celio\, si ergono tre luoghi dal fascino irresistibile; adiacenti alla chiesa di San Gregorio Magno\, gli oratori di Sant’Andrea\, Santa Barbara e Santa Silvia sono veri e propri scrigni di capolavori dell’arte.
URL:https://testartwonders.palazzofarneseroma.it/evento/oratori-del-celio-tre-luoghi-sospesi-nel-tempo-tra-capolavori-darte-e-leggende-cristiane/
LOCATION:Oratori del Celio\, Piazza di San Gregorio 1\, Roma
ATTACH;FMTTYPE=image/jpeg:https://testartwonders.palazzofarneseroma.it/wp-content/uploads/2026/02/Barbara-4-Copia.jpg
END:VEVENT
END:VCALENDAR