BEGIN:VCALENDAR
VERSION:2.0
PRODID:-//MIRABILIA ART WONDERS - ECPv6.15.17.1//NONSGML v1.0//EN
CALSCALE:GREGORIAN
METHOD:PUBLISH
X-WR-CALNAME:MIRABILIA ART WONDERS
X-ORIGINAL-URL:https://testartwonders.palazzofarneseroma.it
X-WR-CALDESC:Eventi per MIRABILIA ART WONDERS
REFRESH-INTERVAL;VALUE=DURATION:PT1H
X-Robots-Tag:noindex
X-PUBLISHED-TTL:PT1H
BEGIN:VTIMEZONE
TZID:Europe/Rome
BEGIN:DAYLIGHT
TZOFFSETFROM:+0100
TZOFFSETTO:+0200
TZNAME:CEST
DTSTART:20230326T010000
END:DAYLIGHT
BEGIN:STANDARD
TZOFFSETFROM:+0200
TZOFFSETTO:+0100
TZNAME:CET
DTSTART:20231029T010000
END:STANDARD
BEGIN:DAYLIGHT
TZOFFSETFROM:+0100
TZOFFSETTO:+0200
TZNAME:CEST
DTSTART:20240331T010000
END:DAYLIGHT
BEGIN:STANDARD
TZOFFSETFROM:+0200
TZOFFSETTO:+0100
TZNAME:CET
DTSTART:20241027T010000
END:STANDARD
BEGIN:DAYLIGHT
TZOFFSETFROM:+0100
TZOFFSETTO:+0200
TZNAME:CEST
DTSTART:20250330T010000
END:DAYLIGHT
BEGIN:STANDARD
TZOFFSETFROM:+0200
TZOFFSETTO:+0100
TZNAME:CET
DTSTART:20251026T010000
END:STANDARD
END:VTIMEZONE
BEGIN:VEVENT
DTSTART;TZID=Europe/Rome:20240328T123000
DTEND;TZID=Europe/Rome:20240328T133000
DTSTAMP:20260425T135012
CREATED:20240216T104511Z
LAST-MODIFIED:20240324T160351Z
UID:10000146-1711629000-1711632600@testartwonders.palazzofarneseroma.it
SUMMARY:La Casa dei Cavalieri di Rodi
DESCRIPTION:La Casa dei Cavalieri di Rodi è uno dei gioielli segreti di Roma. Incastonato tra il Foro di Augusto e il Foro di Traiano\, il palazzo è il risultato di un’incredibile stratificazione lunga oltre duemila anni. \nNell’anno 2 a.C. viene inaugurato\, all’interno del Foro di Augusto\, il Tempio di Marte Ultore (dal latino Ultor = Vendicatore). Ottocento anni dopo\, quando il Foro di Augusto era già stato abbandonato\, sui resti del Tempio vengono edificati una chiesa e un monastero dedicati a San Basilio. Passano altri quattrocento anni e\, nel 1230\, il complesso passa ai Cavalieri dell’Ordine di San Giovanni di Gerusalemme\, conosciuti anche come Cavalieri di Rodi (oggi Cavalieri di Malta). Duecento anni dopo\, esattamente nel 1466\, il cardinale Marco Barbo\, nipote di papa Paolo II\, trasforma il palazzo in una sontuosa residenza rinascimentale che ancora oggi è possibile ammirare\, con eleganti soffitti lignei\, lussuosi saloni di rappresentanza\, preziose opere d’arte e la meravigliosa loggia ad otto arcate interamente affrescata\, dalla quale si affacciava il pontefice per la benedizione della folla. Nel 1566 l’Ordine dei Cavalieri si trasferisce sull’Aventino e papa Pio V affida la struttura alle Suore Domenicane\, che ampliano il complesso\, dedicandolo alla Santissima Annunziatina. Nel 1930 la porzione conventuale viene abbattuta nell’ambito dei lavori di demolizione per l’apertura di Via dell’Impero (oggi Via dei Fori Imperiali)\, inaugurata nel 1932. Nel secondo dopoguerra il palazzo viene restaurato e affidato nuovamente\, dal 1946\, al Sovrano Ordine di Malta. \nQuesto tour esclusivo consente di ripercorrere la storia millenaria di questo straordinario palazzo e di ammirare gli ambienti che lo impreziosiscono: il Salone d’Onore e la Sala della Loggetta\, con rivestimenti lignei e pitture ad affresco\, antiche carte geografiche e fregi marmorei provenienti dal Foro di Augusto\, la strepitosa loggia affrescata che affaccia sui Fori Imperiali e\, scendendo al livello sotterraneo\, la Cappella Palatina dedicata a San Giovanni Battista\, patrono dell’Ordine dei Cavalieri di Malta\, ricavata sui resti ancora visibili di un cortile di epoca romana con arcate in travertino\, su cui affacciava una grande insula (palazzo di condomini).
URL:https://testartwonders.palazzofarneseroma.it/evento/la-casa-dei-cavalieri-di-rodi/
LOCATION:Piazza del Grillo 1\, angolo via di Campo Carleo\, Piazza del Grillo 1\, angolo via di Campo Carleo\, Roma
ATTACH;FMTTYPE=image/jpeg:https://testartwonders.palazzofarneseroma.it/wp-content/uploads/2024/02/Casa-dei-Cavalieri-di-Rodi.jpg
END:VEVENT
END:VCALENDAR