BEGIN:VCALENDAR
VERSION:2.0
PRODID:-//MIRABILIA ART WONDERS - ECPv6.15.17.1//NONSGML v1.0//EN
CALSCALE:GREGORIAN
METHOD:PUBLISH
X-ORIGINAL-URL:https://testartwonders.palazzofarneseroma.it
X-WR-CALDESC:Eventi per MIRABILIA ART WONDERS
REFRESH-INTERVAL;VALUE=DURATION:PT1H
X-Robots-Tag:noindex
X-PUBLISHED-TTL:PT1H
BEGIN:VTIMEZONE
TZID:Europe/Rome
BEGIN:DAYLIGHT
TZOFFSETFROM:+0100
TZOFFSETTO:+0200
TZNAME:CEST
DTSTART:20230326T010000
END:DAYLIGHT
BEGIN:STANDARD
TZOFFSETFROM:+0200
TZOFFSETTO:+0100
TZNAME:CET
DTSTART:20231029T010000
END:STANDARD
BEGIN:DAYLIGHT
TZOFFSETFROM:+0100
TZOFFSETTO:+0200
TZNAME:CEST
DTSTART:20240331T010000
END:DAYLIGHT
BEGIN:STANDARD
TZOFFSETFROM:+0200
TZOFFSETTO:+0100
TZNAME:CET
DTSTART:20241027T010000
END:STANDARD
BEGIN:DAYLIGHT
TZOFFSETFROM:+0100
TZOFFSETTO:+0200
TZNAME:CEST
DTSTART:20250330T010000
END:DAYLIGHT
BEGIN:STANDARD
TZOFFSETFROM:+0200
TZOFFSETTO:+0100
TZNAME:CET
DTSTART:20251026T010000
END:STANDARD
END:VTIMEZONE
BEGIN:VEVENT
DTSTART;TZID=Europe/Rome:20240601T120000
DTEND;TZID=Europe/Rome:20240601T130000
DTSTAMP:20260425T151027
CREATED:20240324T162937Z
LAST-MODIFIED:20241218T131852Z
UID:10000159-1717243200-1717246800@testartwonders.palazzofarneseroma.it
SUMMARY:Il Palazzo della Cancelleria\, capolavoro del Rinascimento
DESCRIPTION:Il Palazzo della Cancelleria Apostolica\, che sorge alle spalle di Campo dei Fiori\, è uno dei grandi capolavori architettonici del Rinascimento. Realizzato tra il 1485 e il 1513\, fu commissionato dal cardinale Raffaele Riario\, nipote di papa Sisto IV. Leggenda vuole che il cardinale\, incallito giocatore\, riuscì a finanziare la sua sontuosa residenza grazie ai proventi di una clamorosa vincita al gioco in una sola notte. \nLa realizzazione del palazzo fu affidata ai migliori architetti e artisti allora in circolazione\, tra cui Bramante\, considerato il miglior interprete dell’architettura rinascimentale\, Andrea Bregno\, Giorgio Vasari\, Perin del Vaga\, Jacopo Barozzi da Vignola\, Francesco Salviati. \nPoco dopo il suo completamento\, il Palazzo venne tuttavia confiscato al cardinale Riario\, in seguito ad uno scandalo che lo vide coinvolto in una congiura ai danni di Papa Leone X\, e divenne la sede della Cancelleria Apostolica; è tuttora di proprietà della Santa Sede e vi hanno sede alcuni tribunali ecclesiastici\, come la Sacra Romana Rota\, oltre alla Pontificia Accademia Romana di Archeologia e la Pontificia Commissione per i Beni Culturali della Chiesa. \nQuesto tour imperdibile conduce alla scoperta delle meraviglie artistico-architettoniche che il Palazzo custodisce\, tra cui il magnifico cortile interno a tre ordini attribuito a Donato Bramante\, vero e proprio gioiello dell’architettura rinascimentale; il Salone d’Onore\, interamente affrescato nel 1546 dal Vasari in soli 100 giorni\, per rispettare le richieste del committente\, e per questo detto “Salone dei Cento Giorni”; la Sala Riaria o Aula Magna\, sede del Tribunale della Sacra Rota\, con il celebre “quadrante di orologio” dipinto dal Baciccia; la Cappella del Pallio\, impreziosita da stucchi e dipinti di Francesco Salviati; il Salone di Studio\, con la volta affrescata da Perin del Vaga.
URL:https://testartwonders.palazzofarneseroma.it/evento/il-palazzo-della-cancelleria-capolavoro-del-rinascimento-2/
LOCATION:Via dei Laghi\, Rocca di Papa (Roma)\, Via dei Laghi\, Rocca di Papa
ATTACH;FMTTYPE=image/png:https://testartwonders.palazzofarneseroma.it/wp-content/uploads/2024/03/Cancelleria-affresco-1.png
END:VEVENT
BEGIN:VEVENT
DTSTART;TZID=Europe/Rome:20240602T153000
DTEND;TZID=Europe/Rome:20240602T163000
DTSTAMP:20260425T151027
CREATED:20240318T181903Z
LAST-MODIFIED:20240608T052935Z
UID:10000154-1717342200-1717345800@testartwonders.palazzofarneseroma.it
SUMMARY:L’Acquedotto Vergine e i segreti della Fontana di Trevi
DESCRIPTION:L’Acquedotto Vergine (Aqua Virgo) è l’unico acquedotto di Roma antica rimasto ininterrottamente in funzione sino ai nostri giorni. Costruito da Agrippa\, genero dell’imperatore Augusto\, nel 19 a.C. per alimentare le Terme in Campo Marzio\, è una straordinaria opera di ingegneria idraulica: con una lunghezza di oltre 20 chilometri\, l’acqua scorreva dalla sorgente presso il fiume Aniene fino al centro della città in un percorso prevalentemente sotterraneo con una portata giornaliera di 2.504 quinarie (pari a 1.202 litri al secondo)\, una pendenza massima di 30 centimetri per chilometro e un dislivello di appena 6 metri dalla sorgente al punto terminale.Nel 1731 papa Clemente XII bandì un concorso\, vinto da Nicola Salvi\, per la costruzione di una grande fontana monumentale in corrispondenza del punto di arrivo dell’Acquedotto Vergine\, la Fontana di Trevi. Dopo trent’anni di lavori\, la fontana venne inaugurata il 22 maggio 1762\, sotto il pontificato di papa Clemente XIII.\nAncora oggi l’Acquedotto Vergine alimenta numerose fontane monumentali\, tra cui la Barcaccia a Piazza di Spagna e la Fontana dei Quattro Fiumi a Piazza Navona\, oltre alla Fontana di Trevi\, che riceve un getto continuo di 120 litri al secondo. \nQuesto straordinario tour\, suddiviso in tre tappe\, conduce “dietro le quinte”\, alla scoperta dell’Acquedotto ancora funzionante sotto alla Fontana di Trevi. Dapprima si scende sottoterra per visitare l’area archeologica del Vicus Caprarius\, dove è possibile ammirare il castellum acquae\, l’antico serbatoio idrico dell’Acquedotto dove ancora oggi\, dopo duemila anni\, sgorga l’acqua. Si prosegue poi nel seminterrato de La Rinascente\, per osservare un grande tratto dell’Acquedotto rinvenuto durante i lavori di ristrutturazione: ben 15 arcate che testimoniano la grandiosità dell’Aqua Virgo\, anche grazie a un suggestivo racconto virtuale proiettato direttamente sulle arcate dell’Acquedotto. Infine si ritorna in superficie e la visita si conclude davanti alla Fontana di Trevi\, per conoscere altri segreti di uno tra i monumenti più famosi al mondo.
URL:https://testartwonders.palazzofarneseroma.it/evento/lacquedotto-vergine-e-i-segreti-della-fontana-di-trevi-4/
LOCATION:Vicolo del Puttarello\, 25\, Vicolo del Puttarello\, 25\, Roma\, Italia
CATEGORIES:roma sotterranea
ATTACH;FMTTYPE=image/jpeg:https://testartwonders.palazzofarneseroma.it/wp-content/uploads/2023/10/Trevi-01.jpg
END:VEVENT
END:VCALENDAR